Package: ChAMP Version: 2.38.1 Command: /home/biocbuild/R/R/bin/R CMD INSTALL ChAMP StartedAt: 2025-10-13 21:27:14 -0000 (Mon, 13 Oct 2025) EndedAt: 2025-10-13 21:28:49 -0000 (Mon, 13 Oct 2025) EllapsedTime: 95.0 seconds RetCode: 0 Status: OK