Package: ChAMP Version: 2.40.0 Command: /Library/Frameworks/R.framework/Resources/bin/R CMD INSTALL ChAMP StartedAt: 2025-11-03 15:34:51 -0500 (Mon, 03 Nov 2025) EndedAt: 2025-11-03 15:35:14 -0500 (Mon, 03 Nov 2025) EllapsedTime: 22.7 seconds RetCode: 0 Status: OK