Package: ChAMP Version: 2.40.0 Command: /Library/Frameworks/R.framework/Resources/bin/R CMD build --keep-empty-dirs --no-resave-data ChAMP StartedAt: 2025-11-02 15:54:28 -0500 (Sun, 02 Nov 2025) EndedAt: 2025-11-02 15:55:22 -0500 (Sun, 02 Nov 2025) EllapsedTime: 53.6 seconds RetCode: 0 Status: OK PackageFile: ChAMP_2.40.0.tar.gz PackageFileSize: 7.963 MiB