Package: CexoR Version: 1.48.0 Command: /home/biocbuild/R/R/bin/R CMD INSTALL CexoR StartedAt: 2025-11-17 21:45:39 -0000 (Mon, 17 Nov 2025) EndedAt: 2025-11-17 21:46:27 -0000 (Mon, 17 Nov 2025) EllapsedTime: 48.3 seconds RetCode: 0 Status: OK