Package: CexoR Version: 1.48.0 Command: /home/biocbuild/R/R/bin/R CMD build --keep-empty-dirs --no-resave-data CexoR StartedAt: 2025-11-18 00:23:19 -0000 (Tue, 18 Nov 2025) EndedAt: 2025-11-18 00:24:41 -0000 (Tue, 18 Nov 2025) EllapsedTime: 82.0 seconds RetCode: 0 Status: OK PackageFile: CexoR_1.48.0.tar.gz PackageFileSize: 1.651 MiB