Package: CexoR Version: 1.48.0 Command: /home/biocbuild/bbs-3.22-bioc/R/bin/R CMD check --install=check:CexoR.install-out.txt --library=/home/biocbuild/bbs-3.22-bioc/R/site-library --timings CexoR_1.48.0.tar.gz StartedAt: 2025-11-11 22:05:13 -0500 (Tue, 11 Nov 2025) EndedAt: 2025-11-11 22:10:33 -0500 (Tue, 11 Nov 2025) EllapsedTime: 320.4 seconds RetCode: 0 Status: OK CheckDir: CexoR.Rcheck Warnings: 0