Package: CexoR Version: 1.46.0 Command: /Library/Frameworks/R.framework/Resources/bin/R CMD build --keep-empty-dirs --no-resave-data CexoR StartedAt: 2025-10-13 20:53:13 -0400 (Mon, 13 Oct 2025) EndedAt: 2025-10-13 20:54:30 -0400 (Mon, 13 Oct 2025) EllapsedTime: 76.9 seconds RetCode: 0 Status: OK PackageFile: CexoR_1.46.0.tar.gz PackageFileSize: 1.659 MiB