Package: CelliD Version: 1.18.0 Command: /home/biocbuild/bbs-3.22-bioc/R/bin/R CMD INSTALL CelliD StartedAt: 2025-11-11 16:00:09 -0500 (Tue, 11 Nov 2025) EndedAt: 2025-11-11 16:01:20 -0500 (Tue, 11 Nov 2025) EllapsedTime: 71.2 seconds RetCode: 0 Status: OK