Package: CelliD Version: 1.16.0 Command: /home/biocbuild/R/R/bin/R CMD INSTALL CelliD StartedAt: 2025-10-09 21:14:47 -0000 (Thu, 09 Oct 2025) EndedAt: 2025-10-09 21:16:30 -0000 (Thu, 09 Oct 2025) EllapsedTime: 103.1 seconds RetCode: 0 Status: OK