Package: CelliD Version: 1.16.0 Command: /home/biocbuild/R/R/bin/R CMD build --keep-empty-dirs --no-resave-data CelliD StartedAt: 2025-10-09 23:25:23 -0000 (Thu, 09 Oct 2025) EndedAt: 2025-10-09 23:57:28 -0000 (Thu, 09 Oct 2025) EllapsedTime: 1925.3 seconds RetCode: 0 Status: OK PackageFile: CelliD_1.16.0.tar.gz PackageFileSize: 2.462 MiB