Package: CellTrails Version: 1.28.0 Command: /home/biocbuild/R/R/bin/R CMD INSTALL CellTrails StartedAt: 2025-11-10 21:25:48 -0000 (Mon, 10 Nov 2025) EndedAt: 2025-11-10 21:26:29 -0000 (Mon, 10 Nov 2025) EllapsedTime: 41.3 seconds RetCode: 0 Status: OK