Package: CellTrails Version: 1.28.0 Command: /home/biocbuild/R/R/bin/R CMD build --keep-empty-dirs --no-resave-data CellTrails StartedAt: 2025-11-11 00:20:19 -0000 (Tue, 11 Nov 2025) EndedAt: 2025-11-11 00:21:13 -0000 (Tue, 11 Nov 2025) EllapsedTime: 54.0 seconds RetCode: 0 Status: OK PackageFile: CellTrails_1.28.0.tar.gz PackageFileSize: 2.625 MiB