Package: CellTrails Version: 1.28.0 Command: /home/biocbuild/bbs-3.22-bioc/R/bin/R CMD INSTALL CellTrails StartedAt: 2025-11-13 15:19:21 -0500 (Thu, 13 Nov 2025) EndedAt: 2025-11-13 15:19:50 -0500 (Thu, 13 Nov 2025) EllapsedTime: 29.2 seconds RetCode: 0 Status: OK