Package: CellTrails Version: 1.28.0 Command: /home/biocbuild/bbs-3.22-bioc/R/bin/R CMD check --install=check:CellTrails.install-out.txt --library=/home/biocbuild/bbs-3.22-bioc/R/site-library --timings CellTrails_1.28.0.tar.gz StartedAt: 2025-11-11 22:03:12 -0500 (Tue, 11 Nov 2025) EndedAt: 2025-11-11 22:07:29 -0500 (Tue, 11 Nov 2025) EllapsedTime: 256.3 seconds RetCode: 0 Status: OK CheckDir: CellTrails.Rcheck Warnings: 0