Package: CellScore Version: 1.30.0 Command: /home/biocbuild/R/R/bin/R CMD INSTALL CellScore StartedAt: 2025-11-10 21:25:24 -0000 (Mon, 10 Nov 2025) EndedAt: 2025-11-10 21:25:51 -0000 (Mon, 10 Nov 2025) EllapsedTime: 27.3 seconds RetCode: 0 Status: OK