Package: CellScore Version: 1.30.0 Command: /home/biocbuild/R/R/bin/R CMD build --keep-empty-dirs --no-resave-data CellScore StartedAt: 2025-11-11 00:19:52 -0000 (Tue, 11 Nov 2025) EndedAt: 2025-11-11 00:23:44 -0000 (Tue, 11 Nov 2025) EllapsedTime: 232.1 seconds RetCode: 1 Status: ERROR PackageFile: None PackageFileSize: NA