Package: CellScore Version: 1.28.0 Command: chmod a+r CellScore -R && E:\biocbuild\bbs-3.21-bioc\R\bin\R.exe CMD build --keep-empty-dirs --no-resave-data CellScore StartedAt: 2025-08-14 17:55:54 -0400 (Thu, 14 Aug 2025) EndedAt: 2025-08-14 17:59:22 -0400 (Thu, 14 Aug 2025) EllapsedTime: 207.5 seconds RetCode: 1 Status: ERROR PackageFile: None PackageFileSize: NA