Package: CellNOptR Version: 1.56.0 Command: /home/biocbuild/bbs-3.22-bioc/R/bin/R CMD check --install=check:CellNOptR.install-out.txt --library=/home/biocbuild/bbs-3.22-bioc/R/site-library --timings CellNOptR_1.56.0.tar.gz StartedAt: 2025-11-11 22:02:36 -0500 (Tue, 11 Nov 2025) EndedAt: 2025-11-11 22:04:41 -0500 (Tue, 11 Nov 2025) EllapsedTime: 125.1 seconds RetCode: 0 Status: OK CheckDir: CellNOptR.Rcheck Warnings: 0