Package: CellNOptR Version: 1.56.0 Command: /home/biocbuild/bbs-3.22-bioc/R/bin/R CMD build --keep-empty-dirs --no-resave-data --md5 CellNOptR StartedAt: 2025-11-11 16:48:27 -0500 (Tue, 11 Nov 2025) EndedAt: 2025-11-11 16:48:54 -0500 (Tue, 11 Nov 2025) EllapsedTime: 27.0 seconds RetCode: 0 Status: OK PackageFile: CellNOptR_1.56.0.tar.gz PackageFileSize: 3.539 MiB