Package: CellNOptR Version: 1.54.0 Command: /home/biocbuild/bbs-3.21-bioc/R/bin/R CMD build --keep-empty-dirs --no-resave-data CellNOptR StartedAt: 2025-10-01 16:41:23 -0400 (Wed, 01 Oct 2025) EndedAt: 2025-10-01 16:41:49 -0400 (Wed, 01 Oct 2025) EllapsedTime: 26.0 seconds RetCode: 0 Status: OK PackageFile: CellNOptR_1.54.0.tar.gz PackageFileSize: 3.535 MiB