Package: CellNOptR Version: 1.54.0 Command: /home/biocbuild/R/R/bin/R CMD build --keep-empty-dirs --no-resave-data CellNOptR StartedAt: 2025-09-25 23:33:23 -0000 (Thu, 25 Sep 2025) EndedAt: 2025-09-25 23:33:58 -0000 (Thu, 25 Sep 2025) EllapsedTime: 35.0 seconds RetCode: 0 Status: OK PackageFile: CellNOptR_1.54.0.tar.gz PackageFileSize: 3.491 MiB