Package: CellNOptR Version: 1.54.0 Command: /Library/Frameworks/R.framework/Resources/bin/R CMD INSTALL CellNOptR StartedAt: 2025-09-29 15:45:23 -0400 (Mon, 29 Sep 2025) EndedAt: 2025-09-29 15:45:40 -0400 (Mon, 29 Sep 2025) EllapsedTime: 17.5 seconds RetCode: 0 Status: OK