Package: CellNOptR Version: 1.54.0 Command: /Library/Frameworks/R.framework/Resources/bin/R CMD build --keep-empty-dirs --no-resave-data CellNOptR StartedAt: 2025-09-29 20:54:24 -0400 (Mon, 29 Sep 2025) EndedAt: 2025-09-29 20:55:01 -0400 (Mon, 29 Sep 2025) EllapsedTime: 36.7 seconds RetCode: 0 Status: OK PackageFile: CellNOptR_1.54.0.tar.gz PackageFileSize: 3.591 MiB