Package: CellNOptR Version: 1.56.0 Maintainer: Attila Gabor MaintainerEmail: attila.gabor at uni-heidelberg.de git_url: https://git.bioconductor.org/packages/CellNOptR git_branch: RELEASE_3_22 git_last_commit: 2244640 git_last_commit_date: 2025-10-29 10:09:33 -0400 (Wed, 29 Oct 2025)