Package: CellMixS Version: 1.26.0 Command: /home/biocbuild/R/R/bin/R CMD INSTALL CellMixS StartedAt: 2025-11-13 22:08:09 -0000 (Thu, 13 Nov 2025) EndedAt: 2025-11-13 22:08:46 -0000 (Thu, 13 Nov 2025) EllapsedTime: 37.0 seconds RetCode: 0 Status: OK