Package: CellMixS Version: 1.26.0 Command: /home/biocbuild/R/R/bin/R CMD build --keep-empty-dirs --no-resave-data CellMixS StartedAt: 2025-11-14 00:24:10 -0000 (Fri, 14 Nov 2025) EndedAt: 2025-11-14 00:28:06 -0000 (Fri, 14 Nov 2025) EllapsedTime: 236.1 seconds RetCode: 0 Status: OK PackageFile: CellMixS_1.26.0.tar.gz PackageFileSize: 2.837 MiB