Package: CellMixS Version: 1.26.0 Command: /home/biocbuild/bbs-3.22-bioc/R/bin/R CMD build --keep-empty-dirs --no-resave-data --md5 CellMixS StartedAt: 2025-11-13 16:45:16 -0500 (Thu, 13 Nov 2025) EndedAt: 2025-11-13 16:48:05 -0500 (Thu, 13 Nov 2025) EllapsedTime: 169.1 seconds RetCode: 0 Status: OK PackageFile: CellMixS_1.26.0.tar.gz PackageFileSize: 3.91 MiB