Package: CellMixS Version: 1.24.0 Command: /home/biocbuild/bbs-3.21-bioc/R/bin/R CMD INSTALL CellMixS StartedAt: 2025-09-28 16:09:54 -0400 (Sun, 28 Sep 2025) EndedAt: 2025-09-28 16:10:21 -0400 (Sun, 28 Sep 2025) EllapsedTime: 26.9 seconds RetCode: 0 Status: OK