Package: CellMixS Version: 1.24.0 Command: /Library/Frameworks/R.framework/Resources/bin/R CMD INSTALL CellMixS StartedAt: 2025-10-13 16:45:06 -0400 (Mon, 13 Oct 2025) EndedAt: 2025-10-13 16:46:06 -0400 (Mon, 13 Oct 2025) EllapsedTime: 60.6 seconds RetCode: 0 Status: OK