Package: CellMixS Version: 1.24.0 Command: rm -rf CellMixS.buildbin-libdir && mkdir CellMixS.buildbin-libdir && /Users/biocbuild/BBS/utils/build-universal.sh CellMixS_1.24.0.tar.gz /Library/Frameworks/R.framework/Resources/bin/R CellMixS.buildbin-libdir StartedAt: 2025-10-14 12:59:52 -0400 (Tue, 14 Oct 2025) EndedAt: 2025-10-14 13:01:25 -0400 (Tue, 14 Oct 2025) EllapsedTime: 92.2 seconds RetCode: 0 Status: OK PackageFile: CellMixS_1.24.0.tgz PackageFileSize: 4.198 MiB