Package: CellMapper Version: 1.36.0 Command: /home/biocbuild/R/R/bin/R CMD build --keep-empty-dirs --no-resave-data CellMapper StartedAt: 2025-11-11 00:18:55 -0000 (Tue, 11 Nov 2025) EndedAt: 2025-11-11 00:20:52 -0000 (Tue, 11 Nov 2025) EllapsedTime: 117.0 seconds RetCode: 0 Status: OK PackageFile: CellMapper_1.36.0.tar.gz PackageFileSize: 199.6 KiB