Package: CellMapper Version: 1.36.0 Command: /home/biocbuild/bbs-3.22-bioc/R/bin/R CMD INSTALL CellMapper StartedAt: 2025-11-11 15:16:26 -0500 (Tue, 11 Nov 2025) EndedAt: 2025-11-11 15:16:30 -0500 (Tue, 11 Nov 2025) EllapsedTime: 4.5 seconds RetCode: 0 Status: OK