Package: CellMapper Version: 1.34.0 Command: rm -rf CellMapper.buildbin-libdir && mkdir CellMapper.buildbin-libdir && /Users/biocbuild/BBS/utils/build-universal.sh CellMapper_1.34.0.tar.gz /Library/Frameworks/R.framework/Resources/bin/R CellMapper.buildbin-libdir StartedAt: 2025-09-26 13:06:34 -0400 (Fri, 26 Sep 2025) EndedAt: 2025-09-26 13:06:50 -0400 (Fri, 26 Sep 2025) EllapsedTime: 16.2 seconds RetCode: 0 Status: OK PackageFile: CellMapper_1.34.0.tgz PackageFileSize: 350.2 KiB