Package: CellMapper Version: 1.34.0 Command: /home/biocbuild/R/R/bin/R CMD build --keep-empty-dirs --no-resave-data CellMapper StartedAt: 2025-09-25 23:32:26 -0000 (Thu, 25 Sep 2025) EndedAt: 2025-09-25 23:36:18 -0000 (Thu, 25 Sep 2025) EllapsedTime: 232.1 seconds RetCode: 0 Status: OK PackageFile: CellMapper_1.34.0.tar.gz PackageFileSize: 199.7 KiB