Package: CellMapper Version: 1.34.0 Command: /Library/Frameworks/R.framework/Resources/bin/R CMD build --keep-empty-dirs --no-resave-data CellMapper StartedAt: 2025-09-25 20:48:04 -0400 (Thu, 25 Sep 2025) EndedAt: 2025-09-25 20:50:57 -0400 (Thu, 25 Sep 2025) EllapsedTime: 172.7 seconds RetCode: 0 Status: OK PackageFile: CellMapper_1.34.0.tar.gz PackageFileSize: 205.9 KiB