Package: CellBench Version: 1.26.0 Command: /home/biocbuild/R/R/bin/R CMD INSTALL CellBench StartedAt: 2025-11-13 22:04:34 -0000 (Thu, 13 Nov 2025) EndedAt: 2025-11-13 22:05:10 -0000 (Thu, 13 Nov 2025) EllapsedTime: 35.8 seconds RetCode: 0 Status: OK