Package: CellBench Version: 1.26.0 Command: /home/biocbuild/R/R/bin/R CMD build --keep-empty-dirs --no-resave-data CellBench StartedAt: 2025-11-11 00:17:53 -0000 (Tue, 11 Nov 2025) EndedAt: 2025-11-11 00:19:04 -0000 (Tue, 11 Nov 2025) EllapsedTime: 71.0 seconds RetCode: 0 Status: OK PackageFile: CellBench_1.26.0.tar.gz PackageFileSize: 3.078 MiB