Package: CellBench Version: 1.26.0 Command: /home/biocbuild/bbs-3.22-bioc/R/bin/R CMD INSTALL CellBench StartedAt: 2025-11-13 15:59:55 -0500 (Thu, 13 Nov 2025) EndedAt: 2025-11-13 16:00:23 -0500 (Thu, 13 Nov 2025) EllapsedTime: 28.1 seconds RetCode: 0 Status: OK