Package: CellBench Version: 1.26.0 Command: /home/biocbuild/bbs-3.22-bioc/R/bin/R CMD build --keep-empty-dirs --no-resave-data --md5 CellBench StartedAt: 2025-11-13 16:43:21 -0500 (Thu, 13 Nov 2025) EndedAt: 2025-11-13 16:44:14 -0500 (Thu, 13 Nov 2025) EllapsedTime: 53.0 seconds RetCode: 0 Status: OK PackageFile: CellBench_1.26.0.tar.gz PackageFileSize: 3.05 MiB