Package: CellBench Version: 1.24.0 Command: rm -rf CellBench.buildbin-libdir && mkdir CellBench.buildbin-libdir && /Users/biocbuild/BBS/utils/build-universal.sh CellBench_1.24.0.tar.gz /Library/Frameworks/R.framework/Resources/bin/R CellBench.buildbin-libdir StartedAt: 2025-10-14 12:59:35 -0400 (Tue, 14 Oct 2025) EndedAt: 2025-10-14 13:00:55 -0400 (Tue, 14 Oct 2025) EllapsedTime: 79.5 seconds RetCode: 0 Status: OK PackageFile: CellBench_1.24.0.tgz PackageFileSize: 3.094 MiB