Package: CellBarcode Version: 1.16.0 Command: /home/biocbuild/bbs-3.22-bioc/R/bin/R CMD INSTALL CellBarcode StartedAt: 2025-11-11 15:56:40 -0500 (Tue, 11 Nov 2025) EndedAt: 2025-11-11 15:57:47 -0500 (Tue, 11 Nov 2025) EllapsedTime: 67.3 seconds RetCode: 0 Status: OK