Package: CellBarcode Version: 1.16.0 Command: /home/biocbuild/bbs-3.22-bioc/R/bin/R CMD build --keep-empty-dirs --no-resave-data --md5 CellBarcode StartedAt: 2025-11-11 16:46:10 -0500 (Tue, 11 Nov 2025) EndedAt: 2025-11-11 16:47:45 -0500 (Tue, 11 Nov 2025) EllapsedTime: 95.0 seconds RetCode: 0 Status: OK PackageFile: CellBarcode_1.16.0.tar.gz PackageFileSize: 3.177 MiB