Package: CellBarcode Version: 1.14.0 Command: /home/biocbuild/bbs-3.21-bioc/R/bin/R CMD INSTALL CellBarcode StartedAt: 2025-10-15 15:50:23 -0400 (Wed, 15 Oct 2025) EndedAt: 2025-10-15 15:51:24 -0400 (Wed, 15 Oct 2025) EllapsedTime: 61.2 seconds RetCode: 0 Status: OK