Package: CellBarcode Version: 1.14.0 Command: /home/biocbuild/bbs-3.21-bioc/R/bin/R CMD build --keep-empty-dirs --no-resave-data CellBarcode StartedAt: 2025-10-15 16:37:06 -0400 (Wed, 15 Oct 2025) EndedAt: 2025-10-15 16:38:38 -0400 (Wed, 15 Oct 2025) EllapsedTime: 92.1 seconds RetCode: 0 Status: OK PackageFile: CellBarcode_1.14.0.tar.gz PackageFileSize: 3.175 MiB