Package: CellBarcode Version: 1.14.0 Command: /Library/Frameworks/R.framework/Resources/bin/R CMD build --keep-empty-dirs --no-resave-data CellBarcode StartedAt: 2025-04-21 16:13:13 -0400 (Mon, 21 Apr 2025) EndedAt: 2025-04-21 16:14:51 -0400 (Mon, 21 Apr 2025) EllapsedTime: 98.2 seconds RetCode: 0 Status: OK PackageFile: CellBarcode_1.14.0.tar.gz PackageFileSize: 3.174 MiB