Package: CellBarcode Version: 1.14.0 Command: /Library/Frameworks/R.framework/Resources/bin/R CMD build --keep-empty-dirs --no-resave-data CellBarcode StartedAt: 2025-10-13 20:43:51 -0400 (Mon, 13 Oct 2025) EndedAt: 2025-10-13 20:45:39 -0400 (Mon, 13 Oct 2025) EllapsedTime: 107.8 seconds RetCode: 0 Status: OK PackageFile: CellBarcode_1.14.0.tar.gz PackageFileSize: 3.161 MiB