Package: CellBarcode Version: 1.14.0 Command: rm -rf CellBarcode.buildbin-libdir && mkdir CellBarcode.buildbin-libdir && /Users/biocbuild/BBS/utils/build-universal.sh CellBarcode_1.14.0.tar.gz /Library/Frameworks/R.framework/Resources/bin/R CellBarcode.buildbin-libdir StartedAt: 2025-10-15 17:44:56 -0400 (Wed, 15 Oct 2025) EndedAt: 2025-10-15 17:46:05 -0400 (Wed, 15 Oct 2025) EllapsedTime: 69.0 seconds RetCode: 0 Status: OK PackageFile: CellBarcode_1.14.0.tgz PackageFileSize: 3.679 MiB