Package: CeTF Version: 1.22.0 Command: /home/biocbuild/bbs-3.22-bioc/R/bin/R CMD INSTALL CeTF StartedAt: 2025-11-11 15:51:36 -0500 (Tue, 11 Nov 2025) EndedAt: 2025-11-11 15:52:34 -0500 (Tue, 11 Nov 2025) EllapsedTime: 58.6 seconds RetCode: 0 Status: OK