Package: CeTF Version: 1.20.0 Command: /home/biocbuild/R/R/bin/R CMD INSTALL CeTF StartedAt: 2025-10-09 21:07:35 -0000 (Thu, 09 Oct 2025) EndedAt: 2025-10-09 21:09:01 -0000 (Thu, 09 Oct 2025) EllapsedTime: 86.1 seconds RetCode: 0 Status: OK