Package: CeTF Version: 1.20.0 Command: /home/biocbuild/R/R/bin/R CMD build --keep-empty-dirs --no-resave-data CeTF StartedAt: 2025-10-09 23:30:04 -0000 (Thu, 09 Oct 2025) EndedAt: 2025-10-09 23:34:02 -0000 (Thu, 09 Oct 2025) EllapsedTime: 238.1 seconds RetCode: 0 Status: OK PackageFile: CeTF_1.20.0.tar.gz PackageFileSize: 3.811 MiB